BEGIN:VCALENDAR
VERSION:2.0
PRODID:-//wp-events-plugin.com//5.99912//EN
TZID:Europe/Berlin
X-WR-TIMEZONE:Europe/Berlin
BEGIN:VEVENT
UID:0-816@lorch.albverein.eu
DTSTART;TZID=Europe/Berlin:20260705T100000
DTEND;TZID=Europe/Berlin:20260705T140000
DTSTAMP:20260303T140104Z
URL:https://lorch.albverein.eu/events/2026-07-baechlestour/
SUMMARY:Familienaktion: Bächlestour
DESCRIPTION:\n\n\n\n\nWir gehen barfuß im Bach und sind gespannt\, wen wir
  dort treffen. Dem Bachbett entstiegen\, wollen wir ein Feuer machen und g
 rillen!\n\nTreffpunkt: Ort wird rechtzeitig bekanntgeben\nUhrzeit: 10 Uhr\
 nStrecke: maximal drei Kilometer\nDauer: ca. vier Stunden\nKinderwagen: ja
 \nAlter: ab fünf Jahre\n\nLeitung: Familie Schack\, Email
ATTACH;FMTTYPE=image/jpeg:https://lorch.albverein.eu/wp-content/uploads/si
 tes/57/2017/09/IMG_2381.jpg
CATEGORIES:Gau-Ebene
END:VEVENT
BEGIN:VTIMEZONE
TZID:Europe/Berlin
X-LIC-LOCATION:Europe/Berlin
BEGIN:DAYLIGHT
DTSTART:20260329T030000
TZOFFSETFROM:+0100
TZOFFSETTO:+0200
TZNAME:CEST
END:DAYLIGHT
END:VTIMEZONE
END:VCALENDAR